BEGIN:VCALENDAR
VERSION:2.0
PRODID:-//Centro Comercial - ECPv6.9.0//NONSGML v1.0//EN
CALSCALE:GREGORIAN
METHOD:PUBLISH
X-WR-CALNAME:Centro Comercial
X-ORIGINAL-URL:https://ccialaspiedras.com.uy
X-WR-CALDESC:Eventos para Centro Comercial
REFRESH-INTERVAL;VALUE=DURATION:PT1H
X-Robots-Tag:noindex
X-PUBLISHED-TTL:PT1H
BEGIN:VTIMEZONE
TZID:UTC
BEGIN:STANDARD
TZOFFSETFROM:+0000
TZOFFSETTO:+0000
TZNAME:UTC
DTSTART:20250101T000000
END:STANDARD
END:VTIMEZONE
BEGIN:VEVENT
DTSTART;TZID=UTC:20250211T190000
DTEND;TZID=UTC:20250211T213000
DTSTAMP:20260419T141305
CREATED:20250114T151436Z
LAST-MODIFIED:20250114T151436Z
UID:262-1739300400-1739309400@ccialaspiedras.com.uy
SUMMARY:Taller de Asociatividad
DESCRIPTION:Aprende a fomentar la cooperación entre empresas\, maximizar los recursos conjuntos y abrir nuevas oportunidades de negocio mediante la asociatividad \nDescubre herramientas clave para crear proyectos colectivos y mejorar la comunicación \n11 y 13 de febrero horario de 19:00 a 21:30 \nContacto : 091 044 546 \ncanelones@centros.com \nCURSO VIRTUAL
URL:https://ccialaspiedras.com.uy/event/taller-de-asociatividad/
END:VEVENT
END:VCALENDAR