BEGIN:VCALENDAR
VERSION:2.0
PRODID:-//Centro Comercial - ECPv6.9.0//NONSGML v1.0//EN
CALSCALE:GREGORIAN
METHOD:PUBLISH
X-ORIGINAL-URL:https://ccialaspiedras.com.uy
X-WR-CALDESC:Eventos para Centro Comercial
REFRESH-INTERVAL;VALUE=DURATION:PT1H
X-Robots-Tag:noindex
X-PUBLISHED-TTL:PT1H
BEGIN:VTIMEZONE
TZID:UTC
BEGIN:STANDARD
TZOFFSETFROM:+0000
TZOFFSETTO:+0000
TZNAME:UTC
DTSTART:20250101T000000
END:STANDARD
END:VTIMEZONE
BEGIN:VEVENT
DTSTART;TZID=UTC:20250228T080000
DTEND;TZID=UTC:20250506T170000
DTSTAMP:20260419T184605
CREATED:20250228T162324Z
LAST-MODIFIED:20250421T155942Z
UID:277-1740729600-1746550800@ccialaspiedras.com.uy
SUMMARY:Alquiler de salón mes de Abril por Instituto Educativo Educarte
DESCRIPTION:El salón de nuestra Institución va a estar reservado desde el día 01/04/2025 de 9 a 12  y de 18 a 21 por la Institución educativa Educarte  en la cual se va a desarrollar un curso con el apoyo de INEFOP\, la misma tiene fecha de finalización el día 06/05/2025\, pudiendo la misma  estar sujeto a cambio. \n2.11.0.0
URL:https://ccialaspiedras.com.uy/event/alquiler-de-salon-mes-de-abril-por-instituto-educativo-educarte/
END:VEVENT
BEGIN:VEVENT
DTSTART;TZID=UTC:20250312T080000
DTEND;TZID=UTC:20250312T170000
DTSTAMP:20260419T184605
CREATED:20250125T135813Z
LAST-MODIFIED:20250125T135813Z
UID:267-1741766400-1741798800@ccialaspiedras.com.uy
SUMMARY:Emprendedores gastronómicos de Canelones
DESCRIPTION: ¡Emprendedores gastronómicos de Canelones\, esta oportunidad es para ustedes!  \n\n¿Estás buscando llevar tu emprendimiento al siguiente nivel? ¡Este programa es para vos! En el Centro Pyme de Canelones\, lanzamos un ciclo de capacitaciones gratuitas en distintas áreas de la gastronomía\, diseñadas especialmente para fortalecer tu negocio y potenciar tus habilidades culinarias. \n\n ¿Qué incluye?\n\nMódulos de capacitación en áreas clave de la gastronomía\nAsesoramiento individualizado para cada emprendedor\, ayudándote a ajustar tu proyecto a tus necesidades específicas\n ¡No dejes pasar esta oportunidad única para crecer y mejorar tu emprendimiento!\n\nInscripciones abiertas. Para más info\, contáctanos por mensaje directo. ¡Te esperamos! \n\nLink postulacion:\nhttps://ande.ecenterdirect.com/events/19738
URL:https://ccialaspiedras.com.uy/event/emprendedores-gastronomicos-de-canelones/
LOCATION:Virtual
END:VEVENT
END:VCALENDAR