BEGIN:VCALENDAR
VERSION:2.0
PRODID:-//Centro Comercial - ECPv6.9.0//NONSGML v1.0//EN
CALSCALE:GREGORIAN
METHOD:PUBLISH
X-WR-CALNAME:Centro Comercial
X-ORIGINAL-URL:https://ccialaspiedras.com.uy
X-WR-CALDESC:Eventos para Centro Comercial
REFRESH-INTERVAL;VALUE=DURATION:PT1H
X-Robots-Tag:noindex
X-PUBLISHED-TTL:PT1H
BEGIN:VTIMEZONE
TZID:UTC
BEGIN:STANDARD
TZOFFSETFROM:+0000
TZOFFSETTO:+0000
TZNAME:UTC
DTSTART:20250101T000000
END:STANDARD
END:VTIMEZONE
BEGIN:VEVENT
DTSTART;TZID=UTC:20250724T180000
DTEND;TZID=UTC:20250724T200000
DTSTAMP:20260420T012900
CREATED:20250722T164831Z
LAST-MODIFIED:20250722T164839Z
UID:355-1753380000-1753387200@ccialaspiedras.com.uy
SUMMARY:CHARLA DE CLINILAB 24/07/2025
DESCRIPTION:
URL:https://ccialaspiedras.com.uy/event/charla-de-clinilab-24-07-2025/
END:VEVENT
END:VCALENDAR