BEGIN:VCALENDAR
VERSION:2.0
PRODID:-//Centro Comercial - ECPv6.9.0//NONSGML v1.0//EN
CALSCALE:GREGORIAN
METHOD:PUBLISH
X-ORIGINAL-URL:https://ccialaspiedras.com.uy
X-WR-CALDESC:Eventos para Centro Comercial
REFRESH-INTERVAL;VALUE=DURATION:PT1H
X-Robots-Tag:noindex
X-PUBLISHED-TTL:PT1H
BEGIN:VTIMEZONE
TZID:UTC
BEGIN:STANDARD
TZOFFSETFROM:+0000
TZOFFSETTO:+0000
TZNAME:UTC
DTSTART:20250101T000000
END:STANDARD
END:VTIMEZONE
BEGIN:VEVENT
DTSTART;TZID=UTC:20250211T190000
DTEND;TZID=UTC:20250211T213000
DTSTAMP:20260420T072903
CREATED:20250114T151436Z
LAST-MODIFIED:20250114T151436Z
UID:262-1739300400-1739309400@ccialaspiedras.com.uy
SUMMARY:Taller de Asociatividad
DESCRIPTION:Aprende a fomentar la cooperación entre empresas\, maximizar los recursos conjuntos y abrir nuevas oportunidades de negocio mediante la asociatividad \nDescubre herramientas clave para crear proyectos colectivos y mejorar la comunicación \n11 y 13 de febrero horario de 19:00 a 21:30 \nContacto : 091 044 546 \ncanelones@centros.com \nCURSO VIRTUAL
URL:https://ccialaspiedras.com.uy/event/taller-de-asociatividad/
END:VEVENT
BEGIN:VEVENT
DTSTART;TZID=UTC:20250228T080000
DTEND;TZID=UTC:20250228T170000
DTSTAMP:20260420T072903
CREATED:20250228T161732Z
LAST-MODIFIED:20250228T161732Z
UID:274-1740729600-1740762000@ccialaspiedras.com.uy
SUMMARY:Alquiler de salón  por empresa socia Cuidar S.A.
DESCRIPTION:El salón de nuestra Institucion va a estar reservado el dia 27/03/2025 de 18 a 20 por la empresa socia Cuidar S.A. en la cual se va a desarrollar una charla para sus clientes.
URL:https://ccialaspiedras.com.uy/event/alquiler-de-salon-por-empresa-socia-cuidar-s-a/
END:VEVENT
BEGIN:VEVENT
DTSTART;TZID=UTC:20250228T080000
DTEND;TZID=UTC:20250506T170000
DTSTAMP:20260420T072903
CREATED:20250228T162324Z
LAST-MODIFIED:20250421T155942Z
UID:277-1740729600-1746550800@ccialaspiedras.com.uy
SUMMARY:Alquiler de salón mes de Abril por Instituto Educativo Educarte
DESCRIPTION:El salón de nuestra Institución va a estar reservado desde el día 01/04/2025 de 9 a 12  y de 18 a 21 por la Institución educativa Educarte  en la cual se va a desarrollar un curso con el apoyo de INEFOP\, la misma tiene fecha de finalización el día 06/05/2025\, pudiendo la misma  estar sujeto a cambio. \n2.11.0.0
URL:https://ccialaspiedras.com.uy/event/alquiler-de-salon-mes-de-abril-por-instituto-educativo-educarte/
END:VEVENT
BEGIN:VEVENT
DTSTART;TZID=UTC:20250305T080000
DTEND;TZID=UTC:20250305T170000
DTSTAMP:20260420T072903
CREATED:20250305T191830Z
LAST-MODIFIED:20250305T191838Z
UID:286-1741161600-1741194000@ccialaspiedras.com.uy
SUMMARY:Alquiler de salón  Lunes 10 de Marzo
DESCRIPTION:El salón de nuestras institucion estara reservado para una charla de unos de nuestras empresas socias a sus clientes el dia 10 de marzo desde las 19 a las 22 h.
URL:https://ccialaspiedras.com.uy/event/alquiler-de-salon-lunes-10-de-marzo/
END:VEVENT
BEGIN:VEVENT
DTSTART;TZID=UTC:20250312T080000
DTEND;TZID=UTC:20250312T170000
DTSTAMP:20260420T072903
CREATED:20250125T135813Z
LAST-MODIFIED:20250125T135813Z
UID:267-1741766400-1741798800@ccialaspiedras.com.uy
SUMMARY:Emprendedores gastronómicos de Canelones
DESCRIPTION: ¡Emprendedores gastronómicos de Canelones\, esta oportunidad es para ustedes!  \n\n¿Estás buscando llevar tu emprendimiento al siguiente nivel? ¡Este programa es para vos! En el Centro Pyme de Canelones\, lanzamos un ciclo de capacitaciones gratuitas en distintas áreas de la gastronomía\, diseñadas especialmente para fortalecer tu negocio y potenciar tus habilidades culinarias. \n\n ¿Qué incluye?\n\nMódulos de capacitación en áreas clave de la gastronomía\nAsesoramiento individualizado para cada emprendedor\, ayudándote a ajustar tu proyecto a tus necesidades específicas\n ¡No dejes pasar esta oportunidad única para crecer y mejorar tu emprendimiento!\n\nInscripciones abiertas. Para más info\, contáctanos por mensaje directo. ¡Te esperamos! \n\nLink postulacion:\nhttps://ande.ecenterdirect.com/events/19738
URL:https://ccialaspiedras.com.uy/event/emprendedores-gastronomicos-de-canelones/
LOCATION:Virtual
END:VEVENT
BEGIN:VEVENT
DTSTART;TZID=UTC:20250326T190000
DTEND;TZID=UTC:20250404T220000
DTSTAMP:20260420T072903
CREATED:20250312T175218Z
LAST-MODIFIED:20250312T175226Z
UID:288-1743015600-1743804000@ccialaspiedras.com.uy
SUMMARY:TALLERES ANDE - CENTRO PYMES " EDUCACIÓN FINANCIERA".
DESCRIPTION:Talleres de educacion financiera para emprendimientos y pequeñas empresas.
URL:https://ccialaspiedras.com.uy/event/talleres-ande-centro-pymes-educacion-financiera/
END:VEVENT
BEGIN:VEVENT
DTSTART;TZID=UTC:20250423T090000
DTEND;TZID=UTC:20250423T110000
DTSTAMP:20260420T072903
CREATED:20250421T155110Z
LAST-MODIFIED:20250421T155120Z
UID:306-1745398800-1745406000@ccialaspiedras.com.uy
SUMMARY:Politécnico de San José - Institución Educativa
DESCRIPTION:Curso \n2.11.0.0\n2.11.0.0
URL:https://ccialaspiedras.com.uy/event/politecnico-de-san-jose-institucion-educativa/
END:VEVENT
BEGIN:VEVENT
DTSTART;TZID=UTC:20250423T160000
DTEND;TZID=UTC:20250423T170000
DTSTAMP:20260420T072903
CREATED:20250421T154545Z
LAST-MODIFIED:20250421T154727Z
UID:297-1745424000-1745427600@ccialaspiedras.com.uy
SUMMARY:Reunión de directivos con delegados del Partido Nacional
DESCRIPTION:La comisión directiva recibe a una delegación del partido nacional para un charla. \n2.11.0.0\n2.11.0.0\n2.11.0.0\n2.11.0.0
URL:https://ccialaspiedras.com.uy/event/reunion-de-directivos-con-delegados-del-partido-nacional/
END:VEVENT
BEGIN:VEVENT
DTSTART;TZID=UTC:20250423T193000
DTEND;TZID=UTC:20250423T213000
DTSTAMP:20260420T072903
CREATED:20250421T154653Z
LAST-MODIFIED:20250421T154700Z
UID:300-1745436600-1745443800@ccialaspiedras.com.uy
SUMMARY:Reunión Política del partido Colorado
DESCRIPTION:  \n2.11.0.0\n2.11.0.0
URL:https://ccialaspiedras.com.uy/event/reunion-politica-del-partido-colorado/
END:VEVENT
BEGIN:VEVENT
DTSTART;TZID=UTC:20250424T160000
DTEND;TZID=UTC:20250424T170000
DTSTAMP:20260420T072903
CREATED:20250421T121259Z
LAST-MODIFIED:20250421T121259Z
UID:293-1745510400-1745514000@ccialaspiedras.com.uy
SUMMARY:Reunion con Lerete\, candidato IMC
DESCRIPTION:La Comisión Directiva del Centro Comercial de las Piedras\, se reúne con el candidato a la IMC en las próximas elecciones departamentales para intercambiar puntos de vista en común sobre el departamento \nDia 24/04/2025 hora 16:00
URL:https://ccialaspiedras.com.uy/event/reunion-con-lerete-candidato-imc/
ORGANIZER;CN="Centro Comercial":MAILTO:ccomlp@ccialaspiedras.com.uy
END:VEVENT
BEGIN:VEVENT
DTSTART;TZID=UTC:20250509T080000
DTEND;TZID=UTC:20250509T170000
DTSTAMP:20260420T072904
CREATED:20250509T161401Z
LAST-MODIFIED:20250509T161411Z
UID:328-1746777600-1746810000@ccialaspiedras.com.uy
SUMMARY:DIA DE LA MADRE
DESCRIPTION:
URL:https://ccialaspiedras.com.uy/event/dia-de-la-madre/
END:VEVENT
BEGIN:VEVENT
DTSTART;TZID=UTC:20250509T080000
DTEND;TZID=UTC:20250509T170000
DTSTAMP:20260420T072904
CREATED:20250509T161521Z
LAST-MODIFIED:20250509T161521Z
UID:331-1746777600-1746810000@ccialaspiedras.com.uy
SUMMARY:Fiestas Mayas - 18/05/2025
DESCRIPTION:
URL:https://ccialaspiedras.com.uy/event/fiestas-mayas-18-05-2025/
END:VEVENT
BEGIN:VEVENT
DTSTART;TZID=UTC:20250509T080000
DTEND;TZID=UTC:20250509T170000
DTSTAMP:20260420T072904
CREATED:20250509T162336Z
LAST-MODIFIED:20250509T162336Z
UID:334-1746777600-1746810000@ccialaspiedras.com.uy
SUMMARY:Taller de Ciberseguriadad  y Ciberdelito 19/05/2025 hora 19.15
DESCRIPTION:
URL:https://ccialaspiedras.com.uy/event/taller-de-ciberseguriadad-y-ciberdelito-19-05-2025-hora-19-15/
END:VEVENT
BEGIN:VEVENT
DTSTART;TZID=UTC:20250509T080000
DTEND;TZID=UTC:20250509T170000
DTSTAMP:20260420T072904
CREATED:20250509T162716Z
LAST-MODIFIED:20250509T162801Z
UID:338-1746777600-1746810000@ccialaspiedras.com.uy
SUMMARY:Curso de fotografia Centro Pyme inicio 27 de Mayo hora 19
DESCRIPTION:https://ande.ecenterdirect.com/events/21510
URL:https://ccialaspiedras.com.uy/event/curso-de-fotografia-centro-pyme-inicio-27-de-mayo-hora-19/
END:VEVENT
BEGIN:VEVENT
DTSTART;VALUE=DATE:20250510
DTEND;VALUE=DATE:20250511
DTSTAMP:20260420T072904
CREATED:20250421T155446Z
LAST-MODIFIED:20250421T155448Z
UID:309-1746835200-1746921599@ccialaspiedras.com.uy
SUMMARY:Salon reservado a evento personal  de la funcionaria Estela Sediac
DESCRIPTION:  \n2.11.0.0
URL:https://ccialaspiedras.com.uy/event/salon-reservado-a-evento-personal-de-la-funcionaria-estela-sediac/
END:VEVENT
BEGIN:VEVENT
DTSTART;TZID=UTC:20250513T120000
DTEND;TZID=UTC:20250513T160000
DTSTAMP:20260420T072904
CREATED:20250506T180456Z
LAST-MODIFIED:20250506T180503Z
UID:321-1747137600-1747152000@ccialaspiedras.com.uy
SUMMARY:CUIDAR - TALLER - RESERVA DE SALÓN 13/05/2025
DESCRIPTION:Charla de capacitacion
URL:https://ccialaspiedras.com.uy/event/cuidar-taller-reserva-de-salon-13-05-2025/
END:VEVENT
BEGIN:VEVENT
DTSTART;TZID=UTC:20250516T203000
DTEND;TZID=UTC:20250516T223000
DTSTAMP:20260420T072904
CREATED:20250506T180908Z
LAST-MODIFIED:20250506T180910Z
UID:324-1747427400-1747434600@ccialaspiedras.com.uy
SUMMARY:COMITE PATRIOTICO RESERVA DE SALÓN 16/05/2025
DESCRIPTION:
URL:https://ccialaspiedras.com.uy/event/comite-patriotico-reserva-de-salon-16-05-2025/
END:VEVENT
BEGIN:VEVENT
DTSTART;TZID=UTC:20250519T190000
DTEND;TZID=UTC:20250519T190000
DTSTAMP:20260420T072904
CREATED:20250506T181845Z
LAST-MODIFIED:20250506T181847Z
UID:326-1747681200-1747681200@ccialaspiedras.com.uy
SUMMARY:COLEGIO DE ABOGADOS CHARLA SOBRE CIBERSEGURIDAD
DESCRIPTION:TALLER SOBRE CIBERDELITOS Y CIBERSEGURIDAD.
URL:https://ccialaspiedras.com.uy/event/colegio-de-abogados-charla-sobre-ciberseguridad/
END:VEVENT
BEGIN:VEVENT
DTSTART;TZID=UTC:20250703T180000
DTEND;TZID=UTC:20250703T200000
DTSTAMP:20260420T072904
CREATED:20250612T182230Z
LAST-MODIFIED:20250612T182230Z
UID:344-1751565600-1751572800@ccialaspiedras.com.uy
SUMMARY:Comité Patriótico
DESCRIPTION:  \n2.11.0.0
URL:https://ccialaspiedras.com.uy/event/comite-patriotico/
END:VEVENT
BEGIN:VEVENT
DTSTART;TZID=UTC:20250724T180000
DTEND;TZID=UTC:20250724T200000
DTSTAMP:20260420T072904
CREATED:20250722T164831Z
LAST-MODIFIED:20250722T164839Z
UID:355-1753380000-1753387200@ccialaspiedras.com.uy
SUMMARY:CHARLA DE CLINILAB 24/07/2025
DESCRIPTION:
URL:https://ccialaspiedras.com.uy/event/charla-de-clinilab-24-07-2025/
END:VEVENT
BEGIN:VEVENT
DTSTART;TZID=UTC:20250729T093000
DTEND;TZID=UTC:20250729T163000
DTSTAMP:20260420T072904
CREATED:20250722T164945Z
LAST-MODIFIED:20250722T165356Z
UID:358-1753781400-1753806600@ccialaspiedras.com.uy
SUMMARY:CHARLA DE SECOM 29/07/2025 DE 09.30 A 16.30
DESCRIPTION:
URL:https://ccialaspiedras.com.uy/event/charla-de-secom-29-07-2025-de-09-30-a-16-30/
END:VEVENT
BEGIN:VEVENT
DTSTART;TZID=UTC:20250811T170000
DTEND;TZID=UTC:20250908T200000
DTSTAMP:20260420T072904
CREATED:20250722T163202Z
LAST-MODIFIED:20250722T163202Z
UID:353-1754931600-1757361600@ccialaspiedras.com.uy
SUMMARY:CURSO INEFOP EDUCARTE DESDE EL 11 DE AGOSTO HASTA EL 8 DE SEPTIEMBRE
DESCRIPTION:CURSO DE 8 CLASES DICTADO POR EL CENTRO EDUCATIVO EDUCARTE.
URL:https://ccialaspiedras.com.uy/event/curso-inefop-educarte-desde-el-11-de-agosto-hasta-el-8-de-septiembre/
END:VEVENT
BEGIN:VEVENT
DTSTART;TZID=UTC:20250827T130000
DTEND;TZID=UTC:20251112T170000
DTSTAMP:20260420T072904
CREATED:20250808T171025Z
LAST-MODIFIED:20250902T144107Z
UID:363-1756299600-1762966800@ccialaspiedras.com.uy
SUMMARY:Curso Dictado por Politecnico de San José
DESCRIPTION:Curso de 12 clases.
URL:https://ccialaspiedras.com.uy/event/curso-dictado-por-politecnico-de-san-jose/
END:VEVENT
BEGIN:VEVENT
DTSTART;TZID=UTC:20251006T080000
DTEND;TZID=UTC:20251006T170000
DTSTAMP:20260420T072904
CREATED:20251006T181820Z
LAST-MODIFIED:20251007T153427Z
UID:373-1759737600-1759770000@ccialaspiedras.com.uy
SUMMARY:ELECCIONES  DE AUTORIDADES 2025 - CENTRO COMERCIAL E INDUSTRIAL DE LAS PIEDRAS 30/10/2025
DESCRIPTION:
URL:https://ccialaspiedras.com.uy/event/elecciones-de-autoridades-2025-centro-comercial-e-industrial-de-las-piedras/
END:VEVENT
BEGIN:VEVENT
DTSTART;TZID=UTC:20251021T173000
DTEND;TZID=UTC:20251021T200000
DTSTAMP:20260420T072904
CREATED:20250902T143643Z
LAST-MODIFIED:20250902T143646Z
UID:366-1761067800-1761076800@ccialaspiedras.com.uy
SUMMARY:JUEGOS OLIMPICOS DE LA JUVENTUD " AJEDREZ"
DESCRIPTION:JORNADA DIA 21/10/2025 DE 17.30HS  A 20 HS
URL:https://ccialaspiedras.com.uy/event/juegos-olimpicos-de-la-juventud-ajedrez/
END:VEVENT
BEGIN:VEVENT
DTSTART;TZID=UTC:20251119T080000
DTEND;TZID=UTC:20251215T170000
DTSTAMP:20260420T072904
CREATED:20250916T173932Z
LAST-MODIFIED:20250916T173936Z
UID:369-1763539200-1765818000@ccialaspiedras.com.uy
SUMMARY:POLITÉCNICO  "SAN JOSÉ"  -CURSO -
DESCRIPTION:CURSO EXTENDIDO HASTA EL 15 DE DICIEMBRE. HORARIO DE 13 A 17\, EN EL MES DE DICIEMBRE SE UTILIZA 3 LUNES PARA ACELERAR LA FINALIZACION DEL MISMO
URL:https://ccialaspiedras.com.uy/event/politecnico-san-jose-curso/
END:VEVENT
END:VCALENDAR